BEGIN:VCALENDAR
VERSION:2.0
PRODID:-//wp-events-plugin.com//7.2.3.1//EN
BEGIN:VEVENT
UID:9@vanmarcontemporary.com
DTSTART:20251201T000000Z
DTEND:20251201T000000Z
DTSTAMP:20260318T122551Z
URL:https://vanmarcontemporary.com/events/the-blue-boy-impressions/
SUMMARY:The Blue Boy "Impressions"
DESCRIPTION:Exposición individual The Blue Boy\, Santa Cruz de La Palma.\n
 \n&nbsp\;
ATTACH;FMTTYPE=image/jpeg:https://vanmarcontemporary.com/wp-content/upload
 s/2026/03/The-Blue-Boy-Impressions-Santa-Cruz-de-La-Palma.jpg
CATEGORIES:Exposicion
END:VEVENT
END:VCALENDAR