BEGIN:VCALENDAR
VERSION:2.0
PRODID:-//wp-events-plugin.com//7.2.3.1//EN
BEGIN:VEVENT
UID:8@vanmarcontemporary.com
DTSTART;VALUE=DATE:20260517
DTEND;VALUE=DATE:20260601
DTSTAMP:20260318T113531Z
URL:https://vanmarcontemporary.com/events/surface/
SUMMARY:Surface
DESCRIPTION:Exposición colectiva\, Fuerteventura
CATEGORIES:Exposicion
END:VEVENT
END:VCALENDAR