BEGIN:VCALENDAR
VERSION:2.0
PRODID:-//wp-events-plugin.com//7.2.3.1//EN
BEGIN:VEVENT
UID:24@vanmarcontemporary.com
DTSTART;VALUE=DATE:20231001
DTEND;VALUE=DATE:20231002
DTSTAMP:20260318T134300Z
URL:https://vanmarcontemporary.com/events/rostros/
SUMMARY:Rostros
DESCRIPTION:Exposición de Alba Bici y Laura Domínguez\, Madrid
CATEGORIES:Exposicion
END:VEVENT
END:VCALENDAR