BEGIN:VCALENDAR
VERSION:2.0
PRODID:-//wp-events-plugin.com//7.2.3.1//EN
BEGIN:VEVENT
UID:21@vanmarcontemporary.com
DTSTART;VALUE=DATE:20240501
DTEND;VALUE=DATE:20240502
DTSTAMP:20260318T133724Z
URL:https://vanmarcontemporary.com/events/reve-de/
SUMMARY:Rêve de…
DESCRIPTION:Exposición individual The Blue Boy\, Madrid
CATEGORIES:Exposicion
END:VEVENT
END:VCALENDAR