BEGIN:VCALENDAR
VERSION:2.0
PRODID:-//wp-events-plugin.com//7.2.3.1//EN
BEGIN:VEVENT
UID:20@vanmarcontemporary.com
DTSTART:20240601T000000Z
DTEND:20240601T000000Z
DTSTAMP:20260318T133600Z
URL:https://vanmarcontemporary.com/events/retrospectiva/
SUMMARY:Retrospectiva
DESCRIPTION:Exposición individual de Romi Zangerle\, Madrid
CATEGORIES:Exposicion
END:VEVENT
END:VCALENDAR