BEGIN:VCALENDAR
VERSION:2.0
PRODID:-//wp-events-plugin.com//7.2.3.1//EN
BEGIN:VEVENT
UID:15@vanmarcontemporary.com
DTSTART;VALUE=DATE:20260301
DTEND;VALUE=DATE:20260302
DTSTAMP:20260413T074948Z
URL:https://vanmarcontemporary.com/events/puntos-de-vista/
SUMMARY:Puntos de vista
DESCRIPTION:Exposición colectiva\, Santa Cruz de La Palma
ATTACH;FMTTYPE=image/jpeg:https://vanmarcontemporary.com/wp-content/upload
 s/2026/03/puntos_de_vista_converted.jpg
CATEGORIES:Exposicion
END:VEVENT
END:VCALENDAR