BEGIN:VCALENDAR
VERSION:2.0
PRODID:-//wp-events-plugin.com//7.2.3.1//EN
BEGIN:VEVENT
UID:6@vanmarcontemporary.com
DTSTART:20260422T000000Z
DTEND:20260510T000000Z
DTSTAMP:20260413T075113Z
URL:https://vanmarcontemporary.com/events/paper-now/
SUMMARY:Paper Now
DESCRIPTION:Exposición colectiva\, Santa Cruz de La Palma
ATTACH;FMTTYPE=image/jpeg:https://vanmarcontemporary.com/wp-content/upload
 s/2026/03/foto-2-paper-now.jpg
CATEGORIES:Exposicion
END:VEVENT
END:VCALENDAR