BEGIN:VCALENDAR
VERSION:2.0
PRODID:-//wp-events-plugin.com//7.2.3.1//EN
BEGIN:VEVENT
UID:12@vanmarcontemporary.com
DTSTART:20241201T000000Z
DTEND:20241201T000000Z
DTSTAMP:20260318T130711Z
URL:https://vanmarcontemporary.com/events/nuria-del-pino-isla/
SUMMARY:Nuria del Pino "Isla"
DESCRIPTION:"Isla"- Exposición individual de Nuria del Pino\, Santa Cruz d
 e La Palma
ATTACH;FMTTYPE=image/jpeg:https://vanmarcontemporary.com/wp-content/upload
 s/2026/03/Nuria-del-Pino-Isla.jpg
CATEGORIES:Exposicion
END:VEVENT
END:VCALENDAR