BEGIN:VCALENDAR
VERSION:2.0
PRODID:-//wp-events-plugin.com//7.2.3.1//EN
BEGIN:VEVENT
UID:26@vanmarcontemporary.com
DTSTART:20230301T000000Z
DTEND:20230301T000000Z
DTSTAMP:20260318T134612Z
URL:https://vanmarcontemporary.com/events/magma/
SUMMARY:Magma
DESCRIPTION:Exposición individual de Nuria del Pino\, Santa Cruz de La Pal
 ma
CATEGORIES:Exposicion
END:VEVENT
END:VCALENDAR