BEGIN:VCALENDAR
VERSION:2.0
PRODID:-//wp-events-plugin.com//7.2.3.1//EN
BEGIN:VEVENT
UID:5@vanmarcontemporary.com
DTSTART:20260404T000000Z
DTEND:20260415T000000Z
DTSTAMP:20260318T112815Z
URL:https://vanmarcontemporary.com/events/into-the-woods/
SUMMARY:Into the Woods
DESCRIPTION:Exposición de Romy Zangerle y The Blue Boy\, Santa Cruz de La 
 Palma
ATTACH;FMTTYPE=image/jpeg:https://vanmarcontemporary.com/wp-content/upload
 s/2026/03/2C8686B5-FC09-4276-A61F-DC71AB98DDD3-1302-000000F23D562C05-scale
 d.jpg
CATEGORIES:Exposicion
END:VEVENT
END:VCALENDAR