BEGIN:VCALENDAR
VERSION:2.0
PRODID:-//wp-events-plugin.com//7.2.3.1//EN
BEGIN:VEVENT
UID:7@vanmarcontemporary.com
DTSTART;VALUE=DATE:20260418
DTEND;VALUE=DATE:20260511
DTSTAMP:20260415T083753Z
URL:https://vanmarcontemporary.com/events/into-the-woods-2/
SUMMARY:Into the Woods
DESCRIPTION:
ATTACH;FMTTYPE=image/jpeg:https://vanmarcontemporary.com/wp-content/upload
 s/2026/03/into_the_wood_converted.jpg
CATEGORIES:Exposicion
END:VEVENT
END:VCALENDAR