BEGIN:VCALENDAR
VERSION:2.0
PRODID:-//wp-events-plugin.com//7.2.3.1//EN
BEGIN:VEVENT
UID:22@vanmarcontemporary.com
DTSTART:20240301T000000Z
DTEND:20240301T000000Z
DTSTAMP:20260318T133849Z
URL:https://vanmarcontemporary.com/events/fernreise/
SUMMARY:Fernreise
DESCRIPTION:Exposición individual de Nelly Stockburger\, Santa Cruz de La 
 Palma
CATEGORIES:Exposicion
END:VEVENT
END:VCALENDAR