BEGIN:VCALENDAR
VERSION:2.0
PRODID:-//wp-events-plugin.com//7.2.3.1//EN
BEGIN:VEVENT
UID:10@vanmarcontemporary.com
DTSTART;VALUE=DATE:20251001
DTEND;VALUE=DATE:20251002
DTSTAMP:20260318T125921Z
URL:https://vanmarcontemporary.com/events/feria-internacional-de-arte-de-l
 uxemburgo/
SUMMARY:Feria internacional de Arte de Luxemburgo
DESCRIPTION:Feria Internacional de Arte de Luxemburgo\, Luxexpo\, Luxemburg
 o.
ATTACH;FMTTYPE=image/jpeg:https://vanmarcontemporary.com/wp-content/upload
 s/2026/03/Feria-Internacional-de-Luxemburgo.jpg
CATEGORIES:Exposicion
END:VEVENT
END:VCALENDAR