BEGIN:VCALENDAR
VERSION:2.0
PRODID:-//wp-events-plugin.com//7.2.3.1//EN
BEGIN:VEVENT
UID:11@vanmarcontemporary.com
DTSTART;VALUE=DATE:20250301
DTEND;VALUE=DATE:20250302
DTSTAMP:20260318T130424Z
URL:https://vanmarcontemporary.com/events/feria-artist-experience/
SUMMARY:Feria Artist Experience
DESCRIPTION:Feria de Arte Artist experience\, Palacio de Santa Bárbara\, M
 adrid.
ATTACH;FMTTYPE=image/jpeg:https://vanmarcontemporary.com/wp-content/upload
 s/2026/03/Feria-Artist-Experience-Madrid.jpg
CATEGORIES:Feria
END:VEVENT
END:VCALENDAR