BEGIN:VCALENDAR
VERSION:2.0
PRODID:-//wp-events-plugin.com//7.2.3.1//EN
BEGIN:VEVENT
UID:23@vanmarcontemporary.com
DTSTART:20231101T000000Z
DTEND:20231101T000000Z
DTSTAMP:20260318T134051Z
URL:https://vanmarcontemporary.com/events/entre-islas-arte-canario/
SUMMARY:Entre islas\, arte canario
DESCRIPTION:Exposición colectiva\, Santa Cruz de Tenerife
CATEGORIES:Exposicion
END:VEVENT
END:VCALENDAR