BEGIN:VCALENDAR
VERSION:2.0
PRODID:-//wp-events-plugin.com//7.2.3.1//EN
BEGIN:VEVENT
UID:16@vanmarcontemporary.com
DTSTART;VALUE=DATE:20250701
DTEND;VALUE=DATE:20250702
DTSTAMP:20260318T132946Z
URL:https://vanmarcontemporary.com/events/cuerpo-y-alma/
SUMMARY:Cuerpo y Alma
DESCRIPTION:Exposición colectiva\, Santa Cruz de La Palma
CATEGORIES:Exposicion
END:VEVENT
END:VCALENDAR