BEGIN:VCALENDAR
VERSION:2.0
PRODID:-//wp-events-plugin.com//7.2.3.1//EN
BEGIN:VEVENT
UID:14@vanmarcontemporary.com
DTSTART:20240401T000000Z
DTEND:20240401T000000Z
DTSTAMP:20260413T075344Z
URL:https://vanmarcontemporary.com/events/colectiva-natura/
SUMMARY:Colectiva "Natura"
DESCRIPTION:Exposición colectiva\, Santa Cruz de La Palma
ATTACH;FMTTYPE=image/jpeg:https://vanmarcontemporary.com/wp-content/upload
 s/2026/03/colectiva-Natura.jpg
CATEGORIES:Exposicion
END:VEVENT
END:VCALENDAR