BEGIN:VCALENDAR
VERSION:2.0
PRODID:-//wp-events-plugin.com//7.2.3.1//EN
BEGIN:VEVENT
UID:13@vanmarcontemporary.com
DTSTART:20240101T000000Z
DTEND:20240101T000000Z
DTSTAMP:20260318T131113Z
URL:https://vanmarcontemporary.com/events/colectiva-dialogos/
SUMMARY:Colectiva "Diálogos"
DESCRIPTION:Exposición colectiva\, Madrid
ATTACH;FMTTYPE=image/jpeg:https://vanmarcontemporary.com/wp-content/upload
 s/2026/03/colectiva-Dialogos.jpg
CATEGORIES:Exposicion
END:VEVENT
END:VCALENDAR