BEGIN:VCALENDAR
VERSION:2.0
PRODID:-//wp-events-plugin.com//7.2.3.1//EN
BEGIN:VEVENT
UID:19@vanmarcontemporary.com
DTSTART;VALUE=DATE:20240801
DTEND;VALUE=DATE:20240802
DTSTAMP:20260318T133442Z
URL:https://vanmarcontemporary.com/events/colectiva-de-verano-coleccion-ma
 lpais/
SUMMARY:Colectiva de Verano\, colección Malpaís
DESCRIPTION:Colectiva de Verano\, colección Malpaís\, Santa Cruz de La Pa
 lma
CATEGORIES:Exposicion
END:VEVENT
END:VCALENDAR