BEGIN:VCALENDAR
VERSION:2.0
PRODID:-//wp-events-plugin.com//7.2.3.1//EN
BEGIN:VEVENT
UID:17@vanmarcontemporary.com
DTSTART:20250401T000000Z
DTEND:20250401T000000Z
DTSTAMP:20260318T133153Z
URL:https://vanmarcontemporary.com/events/colectiva-de-primavera-coleccion
 -malpais/
SUMMARY:Colectiva de Primavera\, colección Malpaís
DESCRIPTION:Colectiva de Primavera\, colección Malpaís\, Santa Cruz de La
  Palma
CATEGORIES:Exposicion
END:VEVENT
END:VCALENDAR