BEGIN:VCALENDAR
VERSION:2.0
PRODID:-//wp-events-plugin.com//7.2.3.1//EN
BEGIN:VEVENT
UID:25@vanmarcontemporary.com
DTSTART;VALUE=DATE:20230801
DTEND;VALUE=DATE:20230802
DTSTAMP:20260318T134458Z
URL:https://vanmarcontemporary.com/events/botanica/
SUMMARY:Botánica
DESCRIPTION:Exposición colectiva\, Santa Cruz de La Palma
CATEGORIES:Exposicion
END:VEVENT
END:VCALENDAR